BEGIN:VCALENDAR
VERSION:2.0
PRODID:-//Stokenchurch Parish Council//Meeting Calendar//EN
CALSCALE:GREGORIAN
METHOD:PUBLISH
BEGIN:VEVENT
UID:71721-20260429@stokenchurch-pc.gov.uk
DTSTAMP:20260424T133223Z
DTSTART;VALUE=DATE:20260429
DTEND;VALUE=DATE:20260430
SUMMARY:EOM 29th April 2026
DESCRIPTION:Full Council Meeting\nView details: https://stokenchurch-pc.gov.uk/meetings/eom-29th-april-2026/
URL:https://stokenchurch-pc.gov.uk/meetings/eom-29th-april-2026/
END:VEVENT
END:VCALENDAR
